BEGIN:VCALENDAR
VERSION:2.0
PRODID:-//Bohuslans Museum  - ECPv6.15.20//NONSGML v1.0//EN
CALSCALE:GREGORIAN
METHOD:PUBLISH
X-ORIGINAL-URL:https://www.bohuslansmuseum.se
X-WR-CALDESC:Händelser för Bohuslans Museum 
REFRESH-INTERVAL;VALUE=DURATION:PT1H
X-Robots-Tag:noindex
X-PUBLISHED-TTL:PT1H
BEGIN:VTIMEZONE
TZID:Europe/Stockholm
BEGIN:DAYLIGHT
TZOFFSETFROM:+0100
TZOFFSETTO:+0200
TZNAME:CEST
DTSTART:20250330T010000
END:DAYLIGHT
BEGIN:STANDARD
TZOFFSETFROM:+0200
TZOFFSETTO:+0100
TZNAME:CET
DTSTART:20251026T010000
END:STANDARD
BEGIN:DAYLIGHT
TZOFFSETFROM:+0100
TZOFFSETTO:+0200
TZNAME:CEST
DTSTART:20260329T010000
END:DAYLIGHT
BEGIN:STANDARD
TZOFFSETFROM:+0200
TZOFFSETTO:+0100
TZNAME:CET
DTSTART:20261025T010000
END:STANDARD
BEGIN:DAYLIGHT
TZOFFSETFROM:+0100
TZOFFSETTO:+0200
TZNAME:CEST
DTSTART:20270328T010000
END:DAYLIGHT
BEGIN:STANDARD
TZOFFSETFROM:+0200
TZOFFSETTO:+0100
TZNAME:CET
DTSTART:20271031T010000
END:STANDARD
BEGIN:DAYLIGHT
TZOFFSETFROM:+0100
TZOFFSETTO:+0200
TZNAME:CEST
DTSTART:20280326T010000
END:DAYLIGHT
BEGIN:STANDARD
TZOFFSETFROM:+0200
TZOFFSETTO:+0100
TZNAME:CET
DTSTART:20281029T010000
END:STANDARD
END:VTIMEZONE
BEGIN:VEVENT
DTSTART;TZID=Europe/Stockholm:20260509T130000
DTEND;TZID=Europe/Stockholm:20260509T140000
DTSTAMP:20260423T130156
CREATED:20260417T085624Z
LAST-MODIFIED:20260417T085624Z
UID:61820-1778331600-1778335200@www.bohuslansmuseum.se
SUMMARY:Vikens kör sjunger in våren
DESCRIPTION:Den populära Vikens kör bjuder på sommar- och vårsånger med sprudlande värme och livsglädje!
URL:https://www.bohuslansmuseum.se/event/vikens-kor-sjunger-in-varen/
LOCATION:Hörsalen
ATTACH;FMTTYPE=image/jpeg:https://www.bohuslansmuseum.se/wp-content/uploads/2024/04/varkonsert-Vikens.jpg
END:VEVENT
BEGIN:VEVENT
DTSTART;TZID=Europe/Stockholm:20260510T090000
DTEND;TZID=Europe/Stockholm:20260510T130000
DTSTAMP:20260423T130156
CREATED:20251117T100534Z
LAST-MODIFIED:20260417T073410Z
UID:60647-1778403600-1778418000@www.bohuslansmuseum.se
SUMMARY:Fågelskådningens dag
DESCRIPTION:Vi skådar och lyssnar efter ”Valborgs-arter” som lövsångare\, trädpiplärka\, rödstjärt och svartvit flugsnappare. Vi besöker både fågeltornet och andra sidan Bäveån (f d gården Älje). Spelande vadare som enkelbeckasin\, skogssnäppa och drillsnäppa borde komma med i artlistan. \n\nArrangörer: Naturskyddsföreningen i Uddevalla\, Västkuststiftelsen\, Bohusläns museum
URL:https://www.bohuslansmuseum.se/event/fagelskadningens-dag/
LOCATION:Naturreservatet Porsen / Älje
ATTACH;FMTTYPE=image/jpeg:https://www.bohuslansmuseum.se/wp-content/uploads/2025/11/03-Fagelskadning.avif.jpg
END:VEVENT
BEGIN:VEVENT
DTSTART;TZID=Europe/Stockholm:20260513T180000
DTEND;TZID=Europe/Stockholm:20260513T200000
DTSTAMP:20260423T130156
CREATED:20260417T084040Z
LAST-MODIFIED:20260417T084349Z
UID:61810-1778695200-1778702400@www.bohuslansmuseum.se
SUMMARY:Föreläsningsserie om psykisk ohälsa - Suicidpreventation och efterlevandestöd
DESCRIPTION:En föreläsningsserie om psykisk ohälsa\nDetta tillfälle kommer Spes – Riksförbundet för Suicidprevention och Efterlevandestöd. \nFöreläsningen är ca 1.5 h lång och det finns utrymme för frågor \nDatum för de olika föreläsningarna\n\n22/4 Ätstörningar\n29/4 NPF och bemötande\n6/5 Ett liv värt att leva\n13/5 Suicidpreventation och efterlevandestöd \nFöreläsare\nLina Bjurström är beteendevetare och arbetar som verksamhetsutvecklare i Spes Västra krets (Spes – Riksförbundet för Suicidprevention och Efterlevandestöd). Hon förlorade sin bror i suicid 2019 och arbetar med att synliggöra efterlevande som en sårbar grupp med förhöjd risk för psykisk ohälsa\, som samhället\, på olika nivåer\, behöver ta mer ansvar för. \nFöranmälan\nFöreläsningen är kostnadsfri men föranmälan krävs. \nFöranmälan görs till Studieförbundet Vuxenskolan via länken här  \nDet finns 45 platser att tillgå. \n\nArrangör: Studieförbundet Vuxenskolan i samarbete med Uddevalla kommun\, Bohusläns museum och Attention. Anordnas med stöd av Uddevalla kommun\, kultur och fritid.
URL:https://www.bohuslansmuseum.se/event/forelasningsserie-om-psykisk-ohalsa-suicidpreventation-och-efterlevandestod/
LOCATION:Spisrummet
ATTACH;FMTTYPE=image/jpeg:https://www.bohuslansmuseum.se/wp-content/uploads/2026/04/Psykisk-ohalsa-4.jpeg.jpg
END:VEVENT
BEGIN:VEVENT
DTSTART;TZID=Europe/Stockholm:20260515T110000
DTEND;TZID=Europe/Stockholm:20260515T150000
DTSTAMP:20260423T130156
CREATED:20260417T073901Z
LAST-MODIFIED:20260417T073901Z
UID:61793-1778842800-1778857200@www.bohuslansmuseum.se
SUMMARY:Bygg en möbel!
DESCRIPTION:Föranmälan\nFöranmälan görs i museets reception under museets öppettider. Antal platser: 5. Kostnad 300 sek betalas i museets reception. \nIngen förkunskap krävs men viss kunskap i hantering av verktyg är önskvärt.
URL:https://www.bohuslansmuseum.se/event/bygg-en-mobel-2/
LOCATION:Bohushallen
ATTACH;FMTTYPE=image/png:https://www.bohuslansmuseum.se/wp-content/uploads/2026/03/700x540_webb_workshop.png
END:VEVENT
BEGIN:VEVENT
DTSTART;TZID=Europe/Stockholm:20260520T173000
DTEND;TZID=Europe/Stockholm:20260520T210000
DTSTAMP:20260423T130156
CREATED:20260417T093040Z
LAST-MODIFIED:20260417T104423Z
UID:61824-1779298200-1779310800@www.bohuslansmuseum.se
SUMMARY:SV Arena – Internationella konflikter och lokal påverkan
DESCRIPTION:Kvällen inleds av Camilla Orjuela\, professor i freds- och konfliktstudier vid Göteborgs universitet\, som ger en övergripande analys av aktuella konflikter och deras konsekvenser. Därefter följer lokala perspektiv från polis\, fältverksamhet och ungdomsrepresentanter. \nKvällen avslutas med ett moderatorlett samtal med kommunens gruppledare om: \n\nHur globala händelser påverkar det lokala samhällsklimatet\nPolarisering\, trygghet och sammanhållning\nDet kommunala uppdraget i en tid av internationell oro\n\nModerator: Faraah Mohamud\, Verksamhetsutvecklare SV Väst \nVi bjuder på fika! \nSV Arena är en plats för dialog – inte debatt. Här möts vi för att lyssna\, förstå och föra ett respektfullt samtal. \nFöranmälan\nEvenemanget är kostnadsfritt \nFöranmälan görs till Studieförbundet Vuxenskolan via länken här \n\nArrangör: Studieförbundet Vuxenskolan och Bohusläns museum
URL:https://www.bohuslansmuseum.se/event/sv-arena-internationella-konflikter-och-lokal-paverkan/
LOCATION:Hörsalen
ATTACH;FMTTYPE=image/jpeg:https://www.bohuslansmuseum.se/wp-content/uploads/2026/02/08-SV-Arena-Sidbild.jpeg.jpg
END:VEVENT
BEGIN:VEVENT
DTSTART;TZID=Europe/Stockholm:20260524T130000
DTEND;TZID=Europe/Stockholm:20260524T140000
DTSTAMP:20260423T130156
CREATED:20260204T140253Z
LAST-MODIFIED:20260210T080710Z
UID:61272-1779627600-1779631200@www.bohuslansmuseum.se
SUMMARY:Lunchkonsert med Bokenäsets Ådra
DESCRIPTION:Föreningen spelar\, sjunger och dansar med och för varandra. Nu är de tillbaka för en konsert som är öppen för allmänheten och där du välkomnas att delta. \nBokenäsets Ådra är en kultur- och musikförening i Bohuslän som är aktiv sedan 1977. De har ägnat sig åt att utforska och återanvända den bohuslänska låt-\, vis- och danstraditionen. \n\nVar?\nDu hittar konserten på Hyllan en trappa upp eller en våning upp med hiss i mitten av museet. Välkomna!
URL:https://www.bohuslansmuseum.se/event/lunchkonsert-med-bokenasets-adra-6/
LOCATION:Hyllan
ATTACH;FMTTYPE=image/jpeg:https://www.bohuslansmuseum.se/wp-content/uploads/2025/09/bokenasets-adra.jpg
END:VEVENT
BEGIN:VEVENT
DTSTART;TZID=Europe/Stockholm:20260530T100000
DTEND;TZID=Europe/Stockholm:20260530T130000
DTSTAMP:20260423T130156
CREATED:20251201T083612Z
LAST-MODIFIED:20251201T083612Z
UID:60780-1780135200-1780146000@www.bohuslansmuseum.se
SUMMARY:Bohusstickningscirkel
DESCRIPTION:Stickgruppen träffas sista lördagen varje månad på Bohusläns museum (ej december och på sommaren). \nGruppen vill föra det kulturhistoriska arvet vidare och locka nya medlemmar att börja sticka Bohusstickning. \n\nDu är varmt välkommen att titta förbi. Bara titta och uppleva eller se om detta är något för dig att delta i. Vi lär av varandra och har en trevlig stund tillsammans! \n\nVad skiljer sig gruppen från andra stickgrupper?\nDe som deltar i eventet har alltid på sig en Bohusstickning-tröja eller sitter med en Bohusstickning.\nDetta är en roligt och obligatoriskt för nuvarande och framtida medlemmar! \nOm Bohusstickgrupp\n\nGruppen bildades 1999 då Bohusstickning hade ett 60-års jubileum.\nNågra i gruppen har varit med sedan starten 1999.\n\n\nMer om Bohusstickning\n\nHär kan du läsa mer om stickningen.
URL:https://www.bohuslansmuseum.se/event/bohusstickningscirkel-3-2026-05-30/
LOCATION:Körpehåla (sittgruppen utanför Bohushallen\, övre plan)
ATTACH;FMTTYPE=image/jpeg:https://www.bohuslansmuseum.se/wp-content/uploads/2025/01/STickgruppen.jpg
END:VEVENT
BEGIN:VEVENT
DTSTART;TZID=Europe/Stockholm:20260829T100000
DTEND;TZID=Europe/Stockholm:20260829T130000
DTSTAMP:20260423T130156
CREATED:20251201T083612Z
LAST-MODIFIED:20251201T083612Z
UID:60781-1787997600-1788008400@www.bohuslansmuseum.se
SUMMARY:Bohusstickningscirkel
DESCRIPTION:Stickgruppen träffas sista lördagen varje månad på Bohusläns museum (ej december och på sommaren). \nGruppen vill föra det kulturhistoriska arvet vidare och locka nya medlemmar att börja sticka Bohusstickning. \n\nDu är varmt välkommen att titta förbi. Bara titta och uppleva eller se om detta är något för dig att delta i. Vi lär av varandra och har en trevlig stund tillsammans! \n\nVad skiljer sig gruppen från andra stickgrupper?\nDe som deltar i eventet har alltid på sig en Bohusstickning-tröja eller sitter med en Bohusstickning.\nDetta är en roligt och obligatoriskt för nuvarande och framtida medlemmar! \nOm Bohusstickgrupp\n\nGruppen bildades 1999 då Bohusstickning hade ett 60-års jubileum.\nNågra i gruppen har varit med sedan starten 1999.\n\n\nMer om Bohusstickning\n\nHär kan du läsa mer om stickningen.
URL:https://www.bohuslansmuseum.se/event/bohusstickningscirkel-3-2026-08-29/
LOCATION:Körpehåla (sittgruppen utanför Bohushallen\, övre plan)
ATTACH;FMTTYPE=image/jpeg:https://www.bohuslansmuseum.se/wp-content/uploads/2025/01/STickgruppen.jpg
END:VEVENT
BEGIN:VEVENT
DTSTART;TZID=Europe/Stockholm:20260912T100000
DTEND;TZID=Europe/Stockholm:20260912T160000
DTSTAMP:20260423T130156
CREATED:20260317T140007Z
LAST-MODIFIED:20260317T140007Z
UID:61588-1789207200-1789228800@www.bohuslansmuseum.se
SUMMARY:BRON – Uddevalla Internationella poesifestival 2026
DESCRIPTION:“Det vackra och fria ordet – det skrivna ordet – är den bästa bron mellan språk\, kulturer och människor. Det är just detta som är syftet med festivalen Bron: att föra språk\, kulturer och människor närmare varandra.”(Rizah Sheqiri) \nBohusläns museum och R. Kulturförening kan stolt meddela att 2026 års upplaga av BRON\, i år kommer äga plats på museet. Tillsammans vill vi föra invånare i Uddevalla med omnejd samman kring gemensamma upplevelser av poesi och kultur\, och genom detta verka för ett mer inkluderande samhälle. \nUnder festivalen kommer vi erbjuda: \n\nPoesiläsning\nWorkshops\nInvigning av utställningen ”Fristad”\nOch mycket mer\n\nVärd för festivalen är Rizah Sheqiri – poet och grundare av BRON \nFullständigt program och medverkande annonseras löpande \n\nArrangörer: R. Kulturförening och Bohusläns museum. Med stöd från Västra Götalandsregionen. 
URL:https://www.bohuslansmuseum.se/event/bron-uddevalla-internationella-poesifestival-2026/
LOCATION:Hela museet
ATTACH;FMTTYPE=image/jpeg:https://www.bohuslansmuseum.se/wp-content/uploads/2026/03/Bron-web.jpg
END:VEVENT
BEGIN:VEVENT
DTSTART;TZID=Europe/Stockholm:20260923T183000
DTEND;TZID=Europe/Stockholm:20260923T200000
DTSTAMP:20260423T130156
CREATED:20251128T103935Z
LAST-MODIFIED:20260123T122531Z
UID:60761-1790188200-1790193600@www.bohuslansmuseum.se
SUMMARY:Berättarafton
DESCRIPTION:Kvällen bjuder på historia där besökarna tittar på Uddevallabilder och berättar minnen för varandra. \nDu är varmt välkommen att delta även om du själv inte har berättelser att dela. \nDu som besöker eventet får gärna ställa frågor. \nPassar gammal som ung. \nFör eventuella teman och gäster\, besök Uddevallabloggen via länken här \n\nArrangör: Uddevalla hembygdsförening i samarbete med Bohusläns museum
URL:https://www.bohuslansmuseum.se/event/berattarafton-2026-09-23/
LOCATION:Hörsalen
ATTACH;FMTTYPE=image/jpeg:https://www.bohuslansmuseum.se/wp-content/uploads/2022/02/Berattarafton-publik.jpg
END:VEVENT
BEGIN:VEVENT
DTSTART;TZID=Europe/Stockholm:20260926T100000
DTEND;TZID=Europe/Stockholm:20260926T130000
DTSTAMP:20260423T130156
CREATED:20251201T083612Z
LAST-MODIFIED:20251201T083612Z
UID:60782-1790416800-1790427600@www.bohuslansmuseum.se
SUMMARY:Bohusstickningscirkel
DESCRIPTION:Stickgruppen träffas sista lördagen varje månad på Bohusläns museum (ej december och på sommaren). \nGruppen vill föra det kulturhistoriska arvet vidare och locka nya medlemmar att börja sticka Bohusstickning. \n\nDu är varmt välkommen att titta förbi. Bara titta och uppleva eller se om detta är något för dig att delta i. Vi lär av varandra och har en trevlig stund tillsammans! \n\nVad skiljer sig gruppen från andra stickgrupper?\nDe som deltar i eventet har alltid på sig en Bohusstickning-tröja eller sitter med en Bohusstickning.\nDetta är en roligt och obligatoriskt för nuvarande och framtida medlemmar! \nOm Bohusstickgrupp\n\nGruppen bildades 1999 då Bohusstickning hade ett 60-års jubileum.\nNågra i gruppen har varit med sedan starten 1999.\n\n\nMer om Bohusstickning\n\nHär kan du läsa mer om stickningen.
URL:https://www.bohuslansmuseum.se/event/bohusstickningscirkel-3-2026-09-26/
LOCATION:Körpehåla (sittgruppen utanför Bohushallen\, övre plan)
ATTACH;FMTTYPE=image/jpeg:https://www.bohuslansmuseum.se/wp-content/uploads/2025/01/STickgruppen.jpg
END:VEVENT
BEGIN:VEVENT
DTSTART;TZID=Europe/Stockholm:20261024T100000
DTEND;TZID=Europe/Stockholm:20261024T130000
DTSTAMP:20260423T130156
CREATED:20251201T083612Z
LAST-MODIFIED:20251201T083612Z
UID:60783-1792836000-1792846800@www.bohuslansmuseum.se
SUMMARY:Bohusstickningscirkel
DESCRIPTION:Stickgruppen träffas sista lördagen varje månad på Bohusläns museum (ej december och på sommaren). \nGruppen vill föra det kulturhistoriska arvet vidare och locka nya medlemmar att börja sticka Bohusstickning. \n\nDu är varmt välkommen att titta förbi. Bara titta och uppleva eller se om detta är något för dig att delta i. Vi lär av varandra och har en trevlig stund tillsammans! \n\nVad skiljer sig gruppen från andra stickgrupper?\nDe som deltar i eventet har alltid på sig en Bohusstickning-tröja eller sitter med en Bohusstickning.\nDetta är en roligt och obligatoriskt för nuvarande och framtida medlemmar! \nOm Bohusstickgrupp\n\nGruppen bildades 1999 då Bohusstickning hade ett 60-års jubileum.\nNågra i gruppen har varit med sedan starten 1999.\n\n\nMer om Bohusstickning\n\nHär kan du läsa mer om stickningen.
URL:https://www.bohuslansmuseum.se/event/bohusstickningscirkel-3-2026-10-24/
LOCATION:Körpehåla (sittgruppen utanför Bohushallen\, övre plan)
ATTACH;FMTTYPE=image/jpeg:https://www.bohuslansmuseum.se/wp-content/uploads/2025/01/STickgruppen.jpg
END:VEVENT
BEGIN:VEVENT
DTSTART;TZID=Europe/Stockholm:20261028T183000
DTEND;TZID=Europe/Stockholm:20261028T200000
DTSTAMP:20260423T130156
CREATED:20251128T103935Z
LAST-MODIFIED:20260123T122532Z
UID:60762-1793212200-1793217600@www.bohuslansmuseum.se
SUMMARY:Berättarafton
DESCRIPTION:Kvällen bjuder på historia där besökarna tittar på Uddevallabilder och berättar minnen för varandra. \nDu är varmt välkommen att delta även om du själv inte har berättelser att dela. \nDu som besöker eventet får gärna ställa frågor. \nPassar gammal som ung. \nFör eventuella teman och gäster\, besök Uddevallabloggen via länken här \n\nArrangör: Uddevalla hembygdsförening i samarbete med Bohusläns museum
URL:https://www.bohuslansmuseum.se/event/berattarafton-2026-10-28/
LOCATION:Hörsalen
ATTACH;FMTTYPE=image/jpeg:https://www.bohuslansmuseum.se/wp-content/uploads/2022/02/Berattarafton-publik.jpg
END:VEVENT
BEGIN:VEVENT
DTSTART;TZID=Europe/Stockholm:20261125T183000
DTEND;TZID=Europe/Stockholm:20261125T200000
DTSTAMP:20260423T130156
CREATED:20251128T103935Z
LAST-MODIFIED:20260123T122533Z
UID:60763-1795631400-1795636800@www.bohuslansmuseum.se
SUMMARY:Berättarafton
DESCRIPTION:Kvällen bjuder på historia där besökarna tittar på Uddevallabilder och berättar minnen för varandra. \nDu är varmt välkommen att delta även om du själv inte har berättelser att dela. \nDu som besöker eventet får gärna ställa frågor. \nPassar gammal som ung. \nFör eventuella teman och gäster\, besök Uddevallabloggen via länken här \n\nArrangör: Uddevalla hembygdsförening i samarbete med Bohusläns museum
URL:https://www.bohuslansmuseum.se/event/berattarafton-2026-11-25/
LOCATION:Hörsalen
ATTACH;FMTTYPE=image/jpeg:https://www.bohuslansmuseum.se/wp-content/uploads/2022/02/Berattarafton-publik.jpg
END:VEVENT
BEGIN:VEVENT
DTSTART;TZID=Europe/Stockholm:20261128T100000
DTEND;TZID=Europe/Stockholm:20261128T130000
DTSTAMP:20260423T130156
CREATED:20251201T083612Z
LAST-MODIFIED:20251201T083612Z
UID:60784-1795860000-1795870800@www.bohuslansmuseum.se
SUMMARY:Bohusstickningscirkel
DESCRIPTION:Stickgruppen träffas sista lördagen varje månad på Bohusläns museum (ej december och på sommaren). \nGruppen vill föra det kulturhistoriska arvet vidare och locka nya medlemmar att börja sticka Bohusstickning. \n\nDu är varmt välkommen att titta förbi. Bara titta och uppleva eller se om detta är något för dig att delta i. Vi lär av varandra och har en trevlig stund tillsammans! \n\nVad skiljer sig gruppen från andra stickgrupper?\nDe som deltar i eventet har alltid på sig en Bohusstickning-tröja eller sitter med en Bohusstickning.\nDetta är en roligt och obligatoriskt för nuvarande och framtida medlemmar! \nOm Bohusstickgrupp\n\nGruppen bildades 1999 då Bohusstickning hade ett 60-års jubileum.\nNågra i gruppen har varit med sedan starten 1999.\n\n\nMer om Bohusstickning\n\nHär kan du läsa mer om stickningen.
URL:https://www.bohuslansmuseum.se/event/bohusstickningscirkel-3-2026-11-28/
LOCATION:Körpehåla (sittgruppen utanför Bohushallen\, övre plan)
ATTACH;FMTTYPE=image/jpeg:https://www.bohuslansmuseum.se/wp-content/uploads/2025/01/STickgruppen.jpg
END:VEVENT
BEGIN:VEVENT
DTSTART;TZID=Europe/Stockholm:20270127T183000
DTEND;TZID=Europe/Stockholm:20270127T200000
DTSTAMP:20260423T130156
CREATED:20251128T103935Z
LAST-MODIFIED:20260123T122534Z
UID:60764-1801074600-1801080000@www.bohuslansmuseum.se
SUMMARY:Berättarafton
DESCRIPTION:Kvällen bjuder på historia där besökarna tittar på Uddevallabilder och berättar minnen för varandra. \nDu är varmt välkommen att delta även om du själv inte har berättelser att dela. \nDu som besöker eventet får gärna ställa frågor. \nPassar gammal som ung. \nFör eventuella teman och gäster\, besök Uddevallabloggen via länken här \n\nArrangör: Uddevalla hembygdsförening i samarbete med Bohusläns museum
URL:https://www.bohuslansmuseum.se/event/berattarafton-2027-01-27/
LOCATION:Hörsalen
ATTACH;FMTTYPE=image/jpeg:https://www.bohuslansmuseum.se/wp-content/uploads/2022/02/Berattarafton-publik.jpg
END:VEVENT
END:VCALENDAR