BEGIN:VCALENDAR
VERSION:2.0
PRODID:-//Bohuslans Museum  - ECPv6.15.20//NONSGML v1.0//EN
CALSCALE:GREGORIAN
METHOD:PUBLISH
X-WR-CALNAME:Bohuslans Museum 
X-ORIGINAL-URL:https://www.bohuslansmuseum.se
X-WR-CALDESC:Händelser för Bohuslans Museum 
REFRESH-INTERVAL;VALUE=DURATION:PT1H
X-Robots-Tag:noindex
X-PUBLISHED-TTL:PT1H
BEGIN:VTIMEZONE
TZID:Europe/Stockholm
BEGIN:DAYLIGHT
TZOFFSETFROM:+0100
TZOFFSETTO:+0200
TZNAME:CEST
DTSTART:20230326T010000
END:DAYLIGHT
BEGIN:STANDARD
TZOFFSETFROM:+0200
TZOFFSETTO:+0100
TZNAME:CET
DTSTART:20231029T010000
END:STANDARD
BEGIN:DAYLIGHT
TZOFFSETFROM:+0100
TZOFFSETTO:+0200
TZNAME:CEST
DTSTART:20240331T010000
END:DAYLIGHT
BEGIN:STANDARD
TZOFFSETFROM:+0200
TZOFFSETTO:+0100
TZNAME:CET
DTSTART:20241027T010000
END:STANDARD
BEGIN:DAYLIGHT
TZOFFSETFROM:+0100
TZOFFSETTO:+0200
TZNAME:CEST
DTSTART:20250330T010000
END:DAYLIGHT
BEGIN:STANDARD
TZOFFSETFROM:+0200
TZOFFSETTO:+0100
TZNAME:CET
DTSTART:20251026T010000
END:STANDARD
END:VTIMEZONE
BEGIN:VEVENT
DTSTART;VALUE=DATE:20240807
DTEND;VALUE=DATE:20240808
DTSTAMP:20260420T102107
CREATED:20240514T113807Z
LAST-MODIFIED:20240514T114941Z
UID:56116-1722988800-1723075199@www.bohuslansmuseum.se
SUMMARY:Pop-up-utställning - Schillerska tolkar Västerhavet
DESCRIPTION:Efter att ha arbetat med Västerhavet och formulerat egna problem och frågeställningar kring havets utmaningar under året så kan Schillerska eleverna nu presentera en utställning. Det är en serie fotografier som presenteras under Västerhavsveckan men går att se fram till vecka 36. \nVästerhavsveckan\nVill du veta mer om Västerhavsveckan och se vad som händer på andra platser längs kusten? \nBesök vasterhavsveckan.se här!
URL:https://www.bohuslansmuseum.se/event/pop-up-utstallning-schillerska-tolkar-vasterhavet/
LOCATION:Hyllan
ATTACH;FMTTYPE=image/jpeg:https://www.bohuslansmuseum.se/wp-content/uploads/2024/05/3.-Schillerska-fotoutsallning_eventbild_Unsplash.jpg
END:VEVENT
END:VCALENDAR