BEGIN:VCALENDAR
VERSION:2.0
PRODID:-//Bohuslans Museum  - ECPv6.15.20//NONSGML v1.0//EN
CALSCALE:GREGORIAN
METHOD:PUBLISH
X-WR-CALNAME:Bohuslans Museum 
X-ORIGINAL-URL:https://www.bohuslansmuseum.se
X-WR-CALDESC:Händelser för Bohuslans Museum 
REFRESH-INTERVAL;VALUE=DURATION:PT1H
X-Robots-Tag:noindex
X-PUBLISHED-TTL:PT1H
BEGIN:VTIMEZONE
TZID:Europe/Stockholm
BEGIN:DAYLIGHT
TZOFFSETFROM:+0100
TZOFFSETTO:+0200
TZNAME:CEST
DTSTART:20240331T010000
END:DAYLIGHT
BEGIN:STANDARD
TZOFFSETFROM:+0200
TZOFFSETTO:+0100
TZNAME:CET
DTSTART:20241027T010000
END:STANDARD
BEGIN:DAYLIGHT
TZOFFSETFROM:+0100
TZOFFSETTO:+0200
TZNAME:CEST
DTSTART:20250330T010000
END:DAYLIGHT
BEGIN:STANDARD
TZOFFSETFROM:+0200
TZOFFSETTO:+0100
TZNAME:CET
DTSTART:20251026T010000
END:STANDARD
BEGIN:DAYLIGHT
TZOFFSETFROM:+0100
TZOFFSETTO:+0200
TZNAME:CEST
DTSTART:20260329T010000
END:DAYLIGHT
BEGIN:STANDARD
TZOFFSETFROM:+0200
TZOFFSETTO:+0100
TZNAME:CET
DTSTART:20261025T010000
END:STANDARD
END:VTIMEZONE
BEGIN:VEVENT
DTSTART;TZID=Europe/Stockholm:20250129T130000
DTEND;TZID=Europe/Stockholm:20250129T140000
DTSTAMP:20260420T102311
CREATED:20250102T140930Z
LAST-MODIFIED:20250102T141113Z
UID:58295-1738155600-1738159200@www.bohuslansmuseum.se
SUMMARY:Lunchkonsert med Ljungskile folkhögskola\, klassiska linjen
DESCRIPTION:Bohusläns museum får under vecka 5 besök av Ljungskile folkhögskolas musiklinje.\n\nOnsdag 29 januari klockan 13.00\, framför elever vid klassiska linjen ett intressant och fartfyllt program på hyllan\, Bohusläns museum.\n\nFredag 31 januari klockan 13.00\, är det elever vid skolans jazzlinje som framför ett spännande program i hörsalen\, Bohusläns museum.\n\nVarmt välkommen!
URL:https://www.bohuslansmuseum.se/event/lunchkonsert-med-ljungskile-folkhogskola-klassiska-linjen/
LOCATION:Hyllan
ATTACH;FMTTYPE=image/jpeg:https://www.bohuslansmuseum.se/wp-content/uploads/2025/01/Ljungskile-folkhogskola.jpg
END:VEVENT
END:VCALENDAR