BEGIN:VCALENDAR
VERSION:2.0
PRODID:-//Bohuslans Museum  - ECPv6.15.20//NONSGML v1.0//EN
CALSCALE:GREGORIAN
METHOD:PUBLISH
X-WR-CALNAME:Bohuslans Museum 
X-ORIGINAL-URL:https://www.bohuslansmuseum.se
X-WR-CALDESC:Händelser för Bohuslans Museum 
REFRESH-INTERVAL;VALUE=DURATION:PT1H
X-Robots-Tag:noindex
X-PUBLISHED-TTL:PT1H
BEGIN:VTIMEZONE
TZID:Europe/Stockholm
BEGIN:DAYLIGHT
TZOFFSETFROM:+0100
TZOFFSETTO:+0200
TZNAME:CEST
DTSTART:20240331T010000
END:DAYLIGHT
BEGIN:STANDARD
TZOFFSETFROM:+0200
TZOFFSETTO:+0100
TZNAME:CET
DTSTART:20241027T010000
END:STANDARD
BEGIN:DAYLIGHT
TZOFFSETFROM:+0100
TZOFFSETTO:+0200
TZNAME:CEST
DTSTART:20250330T010000
END:DAYLIGHT
BEGIN:STANDARD
TZOFFSETFROM:+0200
TZOFFSETTO:+0100
TZNAME:CET
DTSTART:20251026T010000
END:STANDARD
BEGIN:DAYLIGHT
TZOFFSETFROM:+0100
TZOFFSETTO:+0200
TZNAME:CEST
DTSTART:20260329T010000
END:DAYLIGHT
BEGIN:STANDARD
TZOFFSETFROM:+0200
TZOFFSETTO:+0100
TZNAME:CET
DTSTART:20261025T010000
END:STANDARD
END:VTIMEZONE
BEGIN:VEVENT
DTSTART;TZID=Europe/Stockholm:20250131T130000
DTEND;TZID=Europe/Stockholm:20250131T140000
DTSTAMP:20260420T113837
CREATED:20250113T121233Z
LAST-MODIFIED:20250128T074153Z
UID:58399-1738328400-1738332000@www.bohuslansmuseum.se
SUMMARY:Lunchkonsert med Kompazz\, Ljungskile folkhögsskola
DESCRIPTION:Bohusläns museum får under vecka 5 besök av Ljungskile folkhögskolas musiklinje. \nKompazz är ett band skapat på Ljungskile Folkhögskola. Vi har slagits samman för att utveckla våra förmågor inom improviserad musik. Vi spelar en repertoar bestående av genrer grundade i improvisationstraditionen\, med ett större fokus inom jazz i form av swing\, ballader och bebop\, men med inslag av neo-soul\, funk och alternative R&B. Vi ska ut på turné vecka 5 runtom i Västergötland\, och planerar att leverera en medryckande konsert som blir svår att glömma.  \nVarmt välkommen!
URL:https://www.bohuslansmuseum.se/event/lunchkonsert-med-kompazz-ljungskile-folkhogsskola/
LOCATION:Hyllan
ATTACH;FMTTYPE=image/jpeg:https://www.bohuslansmuseum.se/wp-content/uploads/2025/01/31-Kompazz.jpg
END:VEVENT
END:VCALENDAR