BEGIN:VCALENDAR
VERSION:2.0
PRODID:-//Bohuslans Museum  - ECPv6.15.20//NONSGML v1.0//EN
CALSCALE:GREGORIAN
METHOD:PUBLISH
X-WR-CALNAME:Bohuslans Museum 
X-ORIGINAL-URL:https://www.bohuslansmuseum.se
X-WR-CALDESC:Händelser för Bohuslans Museum 
REFRESH-INTERVAL;VALUE=DURATION:PT1H
X-Robots-Tag:noindex
X-PUBLISHED-TTL:PT1H
BEGIN:VTIMEZONE
TZID:Europe/Stockholm
BEGIN:DAYLIGHT
TZOFFSETFROM:+0100
TZOFFSETTO:+0200
TZNAME:CEST
DTSTART:20230326T010000
END:DAYLIGHT
BEGIN:STANDARD
TZOFFSETFROM:+0200
TZOFFSETTO:+0100
TZNAME:CET
DTSTART:20231029T010000
END:STANDARD
BEGIN:DAYLIGHT
TZOFFSETFROM:+0100
TZOFFSETTO:+0200
TZNAME:CEST
DTSTART:20240331T010000
END:DAYLIGHT
BEGIN:STANDARD
TZOFFSETFROM:+0200
TZOFFSETTO:+0100
TZNAME:CET
DTSTART:20241027T010000
END:STANDARD
BEGIN:DAYLIGHT
TZOFFSETFROM:+0100
TZOFFSETTO:+0200
TZNAME:CEST
DTSTART:20250330T010000
END:DAYLIGHT
BEGIN:STANDARD
TZOFFSETFROM:+0200
TZOFFSETTO:+0100
TZNAME:CET
DTSTART:20251026T010000
END:STANDARD
END:VTIMEZONE
BEGIN:VEVENT
DTSTART;TZID=Europe/Stockholm:20240503T130000
DTEND;TZID=Europe/Stockholm:20240503T140000
DTSTAMP:20260420T100531
CREATED:20240321T123355Z
LAST-MODIFIED:20240502T125837Z
UID:55592-1714741200-1714744800@www.bohuslansmuseum.se
SUMMARY:Fredagskonsert med Kurt Wiklander
DESCRIPTION:Pianisten Kurt Wiklander är tillbaka med sina efterlängtade lunchkonserter. Dessa återkommande event kommer att bjuda på varierade stycken och den ena konserten är inte den andra lik. Det blir både kända och okända verk.  \nHan har gjort lyssnarvänliga arrangemang och kompositioner över kända melodier som har klätts i klangligt rik och virtuos pianoskrud. Melodin känns som en naturlig del i verken som klingar som klassisk musik från 1800-talet och kan på så sätt fungera som en brygga in i den klassiska musikens värld.  \nKurt Wiklander har nio års högre studier i Tyskland och Sverige bakom sig\, både som tonsättare\, pianist och organist.  \nHan har konserterat i de flesta europeiska länder inklusive f.d. Sovjetunionen\, gjort ett flertal radioinspelningar både som organist och pianist (bl.a. för BBC) samt framträtt som solist i polsk riks-TV. Han har spelat in en CD-skiva med egen musik på det svenska skivbolaget BIS. Skivan har fått fina recensioner i fackpressen både i USA och England. 
URL:https://www.bohuslansmuseum.se/event/fredagskonsert-med-kurt-wiklander/
LOCATION:Hyllan
ATTACH;FMTTYPE=image/jpeg:https://www.bohuslansmuseum.se/wp-content/uploads/2024/03/kurt_web_ny.jpg
END:VEVENT
END:VCALENDAR