BEGIN:VCALENDAR
VERSION:2.0
PRODID:-//Bohuslans Museum  - ECPv6.15.20//NONSGML v1.0//EN
CALSCALE:GREGORIAN
METHOD:PUBLISH
X-WR-CALNAME:Bohuslans Museum 
X-ORIGINAL-URL:https://www.bohuslansmuseum.se
X-WR-CALDESC:Händelser för Bohuslans Museum 
REFRESH-INTERVAL;VALUE=DURATION:PT1H
X-Robots-Tag:noindex
X-PUBLISHED-TTL:PT1H
BEGIN:VTIMEZONE
TZID:Europe/Stockholm
BEGIN:DAYLIGHT
TZOFFSETFROM:+0100
TZOFFSETTO:+0200
TZNAME:CEST
DTSTART:20220327T010000
END:DAYLIGHT
BEGIN:STANDARD
TZOFFSETFROM:+0200
TZOFFSETTO:+0100
TZNAME:CET
DTSTART:20221030T010000
END:STANDARD
BEGIN:DAYLIGHT
TZOFFSETFROM:+0100
TZOFFSETTO:+0200
TZNAME:CEST
DTSTART:20230326T010000
END:DAYLIGHT
BEGIN:STANDARD
TZOFFSETFROM:+0200
TZOFFSETTO:+0100
TZNAME:CET
DTSTART:20231029T010000
END:STANDARD
BEGIN:DAYLIGHT
TZOFFSETFROM:+0100
TZOFFSETTO:+0200
TZNAME:CEST
DTSTART:20240331T010000
END:DAYLIGHT
BEGIN:STANDARD
TZOFFSETFROM:+0200
TZOFFSETTO:+0100
TZNAME:CET
DTSTART:20241027T010000
END:STANDARD
END:VTIMEZONE
BEGIN:VEVENT
DTSTART;TZID=Europe/Stockholm:20231107T183000
DTEND;TZID=Europe/Stockholm:20231107T193000
DTSTAMP:20260420T113712
CREATED:20230817T124925Z
LAST-MODIFIED:20231107T072730Z
UID:52748-1699381800-1699385400@www.bohuslansmuseum.se
SUMMARY:"Det var en gång..." en berättelse om folksagor
DESCRIPTION:”Det är många som har älskat folksagor under sin barndom. Själv har jag älskat dem i hela mitt liv. Så småningom övergick fascinationen i funderingar. Snart upptäckte jag att det är inte bara hos mig sagorna väcker frågor.” \nMöt Sveza Daceva Filipova\, litteraturvetare\, fil dr i etnologi och författare.\n \nVarifrån kommer dessa berättelser ursprungligen\, varför berättas de om och om igen under hundratals år? Var folksagans roll bara underhållande eller hade hon en viktigare funktion än så? \nHur kunde det hända att vissa sagomotiv och t o m hela sagor har vandrat över hela jordklotet i form av muntliga berättelser? Vad hände med sagan när den under 1600- talet började bli uppmärksammat och nerskriven av lärda samlare? \nSveza Daceva Filipova doktorsavhandling är en tvärvetenskaplig forskning kring sagomotiven i de olika versioner och varianter av den välkända indoeuropeiska folksagan ”Styvmodern\, dottern och styvdottern”. \n  \nStrömstad akademi erbjuder sedan 2008 aktiva forskare en akademisk hemvist\, som gör det möjligt att fortsätta forska efter 67 års ålder. Akademins drygt 100 medlemmar\, både äldre och yngre\, skapar tillsammans en gedigen kunskapsbank av vetenskaplig kompetens och beprövad erfarenhet inom humaniora\, samhällsvetenskap\, naturvetenskap\, teknologi och medicin. \nFöreläsningen är ett samarbete mellan Folkuniversitetet\, Strömstads Akademi och Bohusläns museum. \nFöreläsningen arrangeras med stöd av Folkuniversitetsföreningen. \nOBS! Begränsat antal platser. Anmälan krävs- Boka här \nMed reservation för ändringar.
URL:https://www.bohuslansmuseum.se/event/det-var-en-gang-om-folksagor/
LOCATION:Hyllan
ATTACH;FMTTYPE=image/jpeg:https://www.bohuslansmuseum.se/wp-content/uploads/2023/08/sagor.jpg
END:VEVENT
END:VCALENDAR